BEGIN:VCALENDAR
VERSION:2.0
PRODID:-//SEEC - ECPv6.15.20//NONSGML v1.0//EN
CALSCALE:GREGORIAN
METHOD:PUBLISH
X-ORIGINAL-URL:https://www.seeconline.org
X-WR-CALDESC:Events for SEEC
REFRESH-INTERVAL;VALUE=DURATION:PT1H
X-Robots-Tag:noindex
X-PUBLISHED-TTL:PT1H
BEGIN:VTIMEZONE
TZID:UTC
BEGIN:STANDARD
TZOFFSETFROM:+0000
TZOFFSETTO:+0000
TZNAME:UTC
DTSTART:20240101T000000
END:STANDARD
END:VTIMEZONE
BEGIN:VEVENT
DTSTART;TZID=UTC:20250925T170000
DTEND;TZID=UTC:20250925T190000
DTSTAMP:20260422T101226
CREATED:20250913T004052Z
LAST-MODIFIED:20250913T004052Z
UID:10000148-1758819600-1758826800@www.seeconline.org
SUMMARY:Learn to Earn Information Session
DESCRIPTION:
URL:https://www.seeconline.org/event/learn-to-earn-information-session/
LOCATION:SEEC\, 1300 Spring Street\, Suite 400\, Silver Spring\, MD\, 20910\, United States
CATEGORIES:Upcoming Events
END:VEVENT
END:VCALENDAR